BEGIN:VCALENDAR
VERSION:2.0
PRODID:-//202.174.114.84//NONSGML kigkonsult.se iCalcreator 2.26.9//
CALSCALE:GREGORIAN
METHOD:PUBLISH
X-FROM-URL:http://tkw.ac.nz
X-WR-TIMEZONE:Pacific/Auckland
BEGIN:VTIMEZONE
TZID:Pacific/Auckland
X-LIC-LOCATION:Pacific/Auckland
BEGIN:STANDARD
DTSTART:20200405T030000
TZOFFSETFROM:+1300
TZOFFSETTO:+1200
RDATE:20210404T030000
TZNAME:NZST
END:STANDARD
BEGIN:DAYLIGHT
DTSTART:20190929T020000
TZOFFSETFROM:+1200
TZOFFSETTO:+1300
RDATE:20200927T020000
TZNAME:NZDT
END:DAYLIGHT
END:VTIMEZONE
BEGIN:VEVENT
UID:ai1ec-2983@tkw.ac.nz
DTSTAMP:20191223T005034Z
CATEGORIES;LANGUAGE=en-US:Paenuku\,Powhiri\,Term Date
CONTACT:
DESCRIPTION:Kura Teina – Paenuku powhiri for new staff and whanau
DTSTART;TZID=Pacific/Auckland:20170131T100000
DTEND;TZID=Pacific/Auckland:20170131T120000
GEO:-35.733873;+174.313958
LOCATION:Paenuku @ Tarewa Rd\, Whangarei 0110\, New Zealand
SEQUENCE:0
SUMMARY:Paenuku – Powhiri
URL:http://tkw.ac.nz/event/paenuku-powhiri/
X-COST-TYPE:free
X-ALT-DESC;FMTTYPE=text/html:<!DOCTYPE HTML PUBLIC '-//W3C//DTD HTML 3.2//E
 N'>\\n<HTML>\\n<HEAD>\\n<TITLE></TITLE>\\n</HEAD>\\n<BODY><p>Kura Teina – 
 Paenuku powhiri for new staff and whanau</p>\n</BODY></HTML>
END:VEVENT
BEGIN:VEVENT
UID:ai1ec-2994@tkw.ac.nz
DTSTAMP:20191223T005034Z
CATEGORIES;LANGUAGE=en-US:Paerangi\,Term Date
CONTACT:
DESCRIPTION:Paetata/Paetawhiti/Paerangi first day of kura and powhiri for n
 ew staff and whanau.\n 
DTSTART;TZID=Pacific/Auckland:20170207T100000
DTEND;TZID=Pacific/Auckland:20170207T120000
GEO:-35.728126;+174.330641
LOCATION:185 Lower Dent St\, Whangarei\, 0110\, New Zealand
SEQUENCE:0
SUMMARY:Kura Tuakana Powhiri
URL:http://tkw.ac.nz/event/kura-tuakana-powhiri/
X-COST-TYPE:free
X-ALT-DESC;FMTTYPE=text/html:<!DOCTYPE HTML PUBLIC '-//W3C//DTD HTML 3.2//E
 N'>\\n<HTML>\\n<HEAD>\\n<TITLE></TITLE>\\n</HEAD>\\n<BODY><p>Paetata/Paeta
 whiti/Paerangi first day of kura and powhiri for new staff and whanau.</p>
 \n<p> </p>\n</BODY></HTML>
END:VEVENT
END:VCALENDAR
